BEGIN:VCALENDAR
VERSION:2.0
PRODID:-//jEvents 2.0 for Joomla//EN
CALSCALE:GREGORIAN
METHOD:PUBLISH
BEGIN:VTIMEZONE
TZID:Europe/Berlin
BEGIN:STANDARD
DTSTART:20211031T020000
RDATE:20220327T030000
TZOFFSETFROM:+0200
TZOFFSETTO:+0100
TZNAME:Europe/Berlin CET
END:STANDARD
BEGIN:STANDARD
DTSTART:20221030T020000
RDATE:20230326T030000
TZOFFSETFROM:+0200
TZOFFSETTO:+0100
TZNAME:Europe/Berlin CET
END:STANDARD
BEGIN:DAYLIGHT
DTSTART:20210610T000000
RDATE:20211031T020000
TZOFFSETFROM:+0100
TZOFFSETTO:+0200
TZNAME:Europe/Berlin CEST
END:DAYLIGHT
BEGIN:DAYLIGHT
DTSTART:20220327T030000
RDATE:20221030T020000
TZOFFSETFROM:+0100
TZOFFSETTO:+0200
TZNAME:Europe/Berlin CEST
END:DAYLIGHT
END:VTIMEZONE
BEGIN:VEVENT
UID:a65b575d3f62a836fb0b3eb100ce21b9
CATEGORIES:Sonstige
CREATED:20220407T111918
SUMMARY:HJV Kata Training
LOCATION:Bad Homburg\, Niederstedter Weg 2\, Primodeus Park (ehemals Ferry Park)
DESCRIPTION;ENCODING=QUOTED-PRINTABLE:<p>in Bad Homburg, Niederstedter Weg 2, Primodeus Park (ehemals Ferry Park)
 , im Dojo der HTG Bad Homburg jeweils am</p><p>11.06.2022 15:00 - 17:30 Uhr
 </p><p>Diese Lehrgänge sind für alle Judoka des HJV, auch Jugendliche ab 14
  Jahren, die Kata üben und lernen wollen.&nbsp;</p>
DTSTAMP:20260424T090633Z
DTSTART;TZID=Europe/Berlin;VALUE=DATE:20220611
DTEND;TZID=Europe/Berlin;VALUE=DATE:20220612
SEQUENCE:0
TRANSP:OPAQUE
END:VEVENT
END:VCALENDAR