BEGIN:VCALENDAR
VERSION:2.0
PRODID:-//jEvents 2.0 for Joomla//EN
CALSCALE:GREGORIAN
METHOD:PUBLISH
BEGIN:VTIMEZONE
TZID:Europe/Berlin
BEGIN:STANDARD
DTSTART:20211125T000000
RDATE:20220327T030000
TZOFFSETFROM:+0200
TZOFFSETTO:+0100
TZNAME:Europe/Berlin CET
END:STANDARD
BEGIN:STANDARD
DTSTART:20221030T020000
RDATE:20230326T030000
TZOFFSETFROM:+0200
TZOFFSETTO:+0100
TZNAME:Europe/Berlin CET
END:STANDARD
BEGIN:DAYLIGHT
DTSTART:20220327T030000
RDATE:20221030T020000
TZOFFSETFROM:+0100
TZOFFSETTO:+0200
TZNAME:Europe/Berlin CEST
END:DAYLIGHT
END:VTIMEZONE
BEGIN:VEVENT
UID:e564d044f9af216548b620f08a13d49b
CATEGORIES:Sonstige
CREATED:20221026T194036
SUMMARY:ABSAGE Budo Spiele – Spiele- und Übungsformen für den  Kampfsport
LOCATION:Sporthalle der Erich Kästner Schule Wolfstr. 23\, 68642 Bürstadt
DESCRIPTION;ENCODING=QUOTED-PRINTABLE:<p>Der Lehrgang wird abgesagt</p>
CONTACT:Diese E-Mail-Adresse ist vor Spambots geschützt! Zur Anzeige muss JavaScript eingeschaltet sein!
				document.getElementById('cloakb3713ca76b2a56640804a1163c62781b').innerHTML = '';
				var prefix = '&#109;a' + 'i&#108;' + '&#116;o';
				var path = 'hr' + 'ef' + '=';
				var addyb3713ca76b2a56640804a1163c62781b = 'm&#101;ld&#117;ng' + '&#64;';
				addyb3713ca76b2a56640804a1163c62781b = addyb3713ca76b2a56640804a1163c62781b + '1' + '&#46;' + 'jcb' + '&#46;' + 'd&#101;';
				var addy_textb3713ca76b2a56640804a1163c62781b = 'm&#101;ld&#117;ng' + '&#64;' + '1' + '&#46;' + 'jcb' + '&#46;' + 'd&#101;';document.getElementById('cloakb3713ca76b2a56640804a1163c62781b').innerHTML += ''+addy_textb3713ca76b2a56640804a1163c62781b+'';
		
DTSTAMP:20260423T230506Z
DTSTART;TZID=Europe/Berlin;VALUE=DATE:20221126
DTEND;TZID=Europe/Berlin;VALUE=DATE:20221127
SEQUENCE:0
TRANSP:OPAQUE
END:VEVENT
END:VCALENDAR