BEGIN:VCALENDAR
VERSION:2.0
PRODID:-//jEvents 2.0 for Joomla//EN
CALSCALE:GREGORIAN
METHOD:PUBLISH
BEGIN:VTIMEZONE
TZID:Europe/Berlin
BEGIN:STANDARD
DTSTART:20220127T000000
RDATE:20220327T030000
TZOFFSETFROM:+0200
TZOFFSETTO:+0100
TZNAME:Europe/Berlin CET
END:STANDARD
BEGIN:STANDARD
DTSTART:20221030T020000
RDATE:20230326T030000
TZOFFSETFROM:+0200
TZOFFSETTO:+0100
TZNAME:Europe/Berlin CET
END:STANDARD
BEGIN:DAYLIGHT
DTSTART:20220327T030000
RDATE:20221030T020000
TZOFFSETFROM:+0100
TZOFFSETTO:+0200
TZNAME:Europe/Berlin CEST
END:DAYLIGHT
END:VTIMEZONE
BEGIN:VEVENT
UID:17c98b81794b76436adc5c45752eb4d0
CATEGORIES:Männer, Frauen
CREATED:20221213T104835
SUMMARY:Deutsche Meisterschaft der Frauen und Männer 2023
LOCATION:Stuttgart
DESCRIPTION;ENCODING=QUOTED-PRINTABLE:<p>Deutsche Meisterschaft der Frauen und Männer 2023</p><p>&nbsp;</p><p><a 
 href="https://www.judobund.de/termine/#422613">Ausschreibung:</a></p>
CONTACT:Sportwarte
DTSTAMP:20260422T150122Z
DTSTART;TZID=Europe/Berlin;VALUE=DATE:20230128
DTEND;TZID=Europe/Berlin;VALUE=DATE:20230130
SEQUENCE:0
TRANSP:OPAQUE
END:VEVENT
END:VCALENDAR