BEGIN:VCALENDAR
VERSION:2.0
PRODID:-//jEvents 2.0 for Joomla//EN
CALSCALE:GREGORIAN
METHOD:PUBLISH
BEGIN:VTIMEZONE
TZID:Europe/Berlin
BEGIN:STANDARD
DTSTART:20221030T020000
RDATE:20230326T030000
TZOFFSETFROM:+0200
TZOFFSETTO:+0100
TZNAME:Europe/Berlin CET
END:STANDARD
BEGIN:DAYLIGHT
DTSTART:20220429T000000
RDATE:20221030T020000
TZOFFSETFROM:+0100
TZOFFSETTO:+0200
TZNAME:Europe/Berlin CEST
END:DAYLIGHT
END:VTIMEZONE
BEGIN:VEVENT
UID:a77793f5f4550ce155008e72404d2b5f
CATEGORIES:Lehrgänge, Prüfungswesen
CREATED:20230213T132839
SUMMARY:Dan-Vorbereitungslehrgang / B-Level-Lehrgang
LOCATION:Maintal (OT Dörnigheim)
DESCRIPTION;ENCODING=QUOTED-PRINTABLE:&nbsp; 
CONTACT:Michaelo Walter
DTSTAMP:20260422T123210Z
DTSTART;TZID=Europe/Berlin;VALUE=DATE:20230430
DTEND;TZID=Europe/Berlin;VALUE=DATE:20230501
SEQUENCE:0
TRANSP:OPAQUE
END:VEVENT
END:VCALENDAR