BEGIN:VCALENDAR
VERSION:2.0
PRODID:-//jEvents 2.0 for Joomla//EN
CALSCALE:GREGORIAN
METHOD:PUBLISH
BEGIN:VTIMEZONE
TZID:Europe/Berlin
BEGIN:STANDARD
DTSTART:20221030T020000
RDATE:20230326T030000
TZOFFSETFROM:+0200
TZOFFSETTO:+0100
TZNAME:Europe/Berlin CET
END:STANDARD
BEGIN:DAYLIGHT
DTSTART:20220407T000000
RDATE:20221030T020000
TZOFFSETFROM:+0100
TZOFFSETTO:+0200
TZNAME:Europe/Berlin CEST
END:DAYLIGHT
END:VTIMEZONE
BEGIN:VEVENT
UID:72a240ec323b6ebaa260da3b6ece6902
CATEGORIES:Lehrgänge
CREATED:20230315T134028
SUMMARY:A-Level Fortbildung 2023
LOCATION: Maintal
DESCRIPTION;ENCODING=QUOTED-PRINTABLE:<div class="viovendi-booking-widget" data-viovendi-locale="de-de" data-viov
 endi-event="128215" data-viovendi-organizer="5182" data-viovendi-widget-con
 fig-name="booking-5182-42647">&nbsp;</div><script src="https://doo.net/viov
 endi-embed.js" type="text/javascript" data-viovendi-version="1"> </script>
CONTACT:Ervin Susnik
DTSTAMP:20260420T120847Z
DTSTART;TZID=Europe/Berlin;VALUE=DATE:20230408
DTEND;TZID=Europe/Berlin;VALUE=DATE:20230409
SEQUENCE:0
TRANSP:OPAQUE
END:VEVENT
END:VCALENDAR