BEGIN:VCALENDAR
VERSION:2.0
PRODID:-//jEvents 2.0 for Joomla//EN
CALSCALE:GREGORIAN
METHOD:PUBLISH
BEGIN:VTIMEZONE
TZID:Europe/Berlin
END:VTIMEZONE
BEGIN:VEVENT
UID:b1a320707c8567d4179c2505151aa948
CATEGORIES:Kampfrichterwesen
CREATED:20241118T174234
SUMMARY:Kampfrichterversammlung
LOCATION:BudoArena\, Ascherstraße  60-62\, 63477 Maintal
DESCRIPTION;ENCODING=QUOTED-PRINTABLE:<p>Der Einlass und die Stimmvergabe erfolgen ab 12:30 Uhr.<br />Versammlung
 sbeginn: 13.00 Uhr</p>
CONTACT:Stefan Himmler 
DTSTAMP:20260419T142840Z
DTSTART;TZID=Europe/Berlin;VALUE=DATE:20250125
DTEND;TZID=Europe/Berlin;VALUE=DATE:20250126
SEQUENCE:0
TRANSP:OPAQUE
END:VEVENT
END:VCALENDAR