BEGIN:VCALENDAR
VERSION:2.0
PRODID:-//jEvents 2.0 for Joomla//EN
CALSCALE:GREGORIAN
METHOD:PUBLISH
BEGIN:VTIMEZONE
TZID:Europe/Berlin
END:VTIMEZONE
BEGIN:VEVENT
UID:9b79d5040e4aaa0308e56192d28d20c9
CATEGORIES:Breitensport, Männer, Frauen
CREATED:20241206T140106
SUMMARY:Veteranen Randori
LOCATION:63067 Offenbach\, Hafenallee 13-15
DESCRIPTION;ENCODING=QUOTED-PRINTABLE:<div class="viovendi-widget viovendi-booking-widget" data-viovendi-locale="
 de-de" data-viovendi-widget-config-name="booking-5182-76573" data-viovendi-
 event="176795" data-viovendi-organizer="5182">&nbsp;</div><script src="http
 s://doo.net/viovendi-embed.js" type="text/javascript" data-viovendi-version
 ="1"></script>
CONTACT:Theodor Keppel
DTSTAMP:20260419T152541Z
DTSTART;TZID=Europe/Berlin;VALUE=DATE:20250803
DTEND;TZID=Europe/Berlin;VALUE=DATE:20250804
SEQUENCE:0
TRANSP:OPAQUE
END:VEVENT
END:VCALENDAR