BEGIN:VCALENDAR
VERSION:2.0
PRODID:-//jEvents 2.0 for Joomla//EN
CALSCALE:GREGORIAN
METHOD:PUBLISH
BEGIN:VTIMEZONE
TZID:Europe/Berlin
END:VTIMEZONE
BEGIN:VEVENT
UID:1708a7d194a2b4d9701dd256917cb7c1
CATEGORIES:Wettkampfsport, Prüfungswesen
CREATED:20241216T165923
SUMMARY:Dan Vorbereitung für Kaderathleten und aktive Wettkämpfer
LOCATION:Tamanégi Judo Griesheim\, Kirschberg 27 64347 Griesheim 
DESCRIPTION;ENCODING=QUOTED-PRINTABLE:&nbsp;&nbsp;
CONTACT:Julia Gottwald
DTSTAMP:20260421T180211Z
DTSTART;TZID=Europe/Berlin;VALUE=DATE:20250106
DTEND;TZID=Europe/Berlin;VALUE=DATE:20250111
SEQUENCE:0
TRANSP:OPAQUE
END:VEVENT
END:VCALENDAR