BEGIN:VCALENDAR
VERSION:2.0
PRODID:-//jEvents 2.0 for Joomla//EN
CALSCALE:GREGORIAN
METHOD:PUBLISH
BEGIN:VTIMEZONE
TZID:Europe/Berlin
END:VTIMEZONE
BEGIN:VEVENT
UID:3f6f992323c9ae7cdd5817fd5e501938
CATEGORIES:Breitensport
CREATED:20241216T173000
SUMMARY:Breitensport Ü50: Tai-chi auf japanisch
LOCATION:35516 Münzenberg / Gambach\, Schulstraße 11 		Sporthalle des TSV 1903 Gamba
 ch e.V
DESCRIPTION;ENCODING=QUOTED-PRINTABLE:&nbsp;
CONTACT:Wolfgang Geissler
DTSTAMP:20260421T191527Z
DTSTART;TZID=Europe/Berlin;VALUE=DATE:20250622
DTEND;TZID=Europe/Berlin;VALUE=DATE:20250623
SEQUENCE:0
TRANSP:OPAQUE
END:VEVENT
END:VCALENDAR