BEGIN:VCALENDAR
VERSION:2.0
PRODID:-//jEvents 2.0 for Joomla//EN
CALSCALE:GREGORIAN
METHOD:PUBLISH
BEGIN:VTIMEZONE
TZID:Europe/Berlin
END:VTIMEZONE
BEGIN:VEVENT
UID:9b2b7e7711e8a93e1c8de85a5627daf8
CATEGORIES:MU15, MU18, FU15, FU18
CREATED:20241221T141441
SUMMARY:Gruppenlehrgang Südwest 
LOCATION:Speyer
DESCRIPTION;ENCODING=QUOTED-PRINTABLE:\n\nGRUPPEN-LEHRGANG U15-U18-U21\nVeranstalter Gruppe Südwest\nAusrichter J
 udo-Verband Pfalz e.V. und JSV Speyer\nAnsprechpartner Landestrainer Team R
 LP\nDatum Samstag, 25.01.2025\nOrt Judomaxx Speyer, Butenschönstraße 8, 673
 46 Speyer\nZeitplan ab 9:30 Uhr Anreise aller Teilnehmer/innen\n10:00-12:00
  Uhr Lehrgang – Teil 1\n12:00-13:30 Uhr Mittagspause (Selbstverpflegung)\n1
 3:30-15:30 Uhr Lehrgang – Teil 2\nTeilnehmer Judoka der Jahrgänge 2013-2005
 \n
CONTACT: HJV Sportwarte
DTSTAMP:20260423T132228Z
DTSTART;TZID=Europe/Berlin;VALUE=DATE:20250125
DTEND;TZID=Europe/Berlin;VALUE=DATE:20250126
SEQUENCE:0
TRANSP:OPAQUE
END:VEVENT
END:VCALENDAR