BEGIN:VCALENDAR
VERSION:2.0
PRODID:-//jEvents 2.0 for Joomla//EN
CALSCALE:GREGORIAN
METHOD:PUBLISH
BEGIN:VTIMEZONE
TZID:Europe/Berlin
END:VTIMEZONE
BEGIN:VEVENT
UID:806f65bd04834ae5a5b8dce3e6525c03
CATEGORIES:MU18, MU21, FU18, FU21
CREATED:20241221T144032
SUMMARY:Kaderlehrgang
LOCATION:Kienbaum
DESCRIPTION;ENCODING=QUOTED-PRINTABLE:\n\nKaderlehrgang\n
CONTACT:HJV Sportwarte
DTSTAMP:20260421T123000Z
DTSTART;TZID=Europe/Berlin;VALUE=DATE:20250203
DTEND;TZID=Europe/Berlin;VALUE=DATE:20250208
SEQUENCE:0
TRANSP:OPAQUE
END:VEVENT
END:VCALENDAR