BEGIN:VCALENDAR
VERSION:2.0
PRODID:-//jEvents 2.0 for Joomla//EN
CALSCALE:GREGORIAN
METHOD:PUBLISH
BEGIN:VTIMEZONE
TZID:Europe/Berlin
END:VTIMEZONE
BEGIN:VEVENT
UID:ed9a956aaf4e209940ddc23fe15b192e
CATEGORIES:MU18, FU18
CREATED:20241221T144451
SUMMARY:Süd West Deutsche Einzelmeisterschaft  U18
LOCATION:Turnhalle der Erlenbachschule Erlenbachhalle\, 65604 Elz\, Hadamarer Str 13
DESCRIPTION;ENCODING=QUOTED-PRINTABLE:<p>Meldeschluss: Montag, den 10.02.2025</p>
CONTACT:Karolin Schmitz
DTSTAMP:20260423T103013Z
DTSTART;TZID=Europe/Berlin;VALUE=DATE:20250215
DTEND;TZID=Europe/Berlin;VALUE=DATE:20250216
SEQUENCE:0
TRANSP:OPAQUE
END:VEVENT
END:VCALENDAR