BEGIN:VCALENDAR
VERSION:2.0
PRODID:-//jEvents 2.0 for Joomla//EN
CALSCALE:GREGORIAN
METHOD:PUBLISH
BEGIN:VTIMEZONE
TZID:Europe/Berlin
END:VTIMEZONE
BEGIN:VEVENT
UID:232e471a94f3c0cbff4e763ede1d54c5
CATEGORIES:MU15
CREATED:20241221T145144
SUMMARY:26. Bundesoffenes Pokalsichtungsturnier u15m Backnang
LOCATION:Backnang 
DESCRIPTION;ENCODING=QUOTED-PRINTABLE:\n\nBST U15\n
CONTACT:HJV Jugendleitung 
DTSTAMP:20260421T175614Z
DTSTART;TZID=Europe/Berlin;VALUE=DATE:20250315
DTEND;TZID=Europe/Berlin;VALUE=DATE:20250316
SEQUENCE:0
TRANSP:OPAQUE
END:VEVENT
END:VCALENDAR