BEGIN:VCALENDAR
VERSION:2.0
PRODID:-//jEvents 2.0 for Joomla//EN
CALSCALE:GREGORIAN
METHOD:PUBLISH
BEGIN:VTIMEZONE
TZID:Europe/Berlin
END:VTIMEZONE
BEGIN:VEVENT
UID:13f3abb5ceb2dc845104da678aa4322c
CATEGORIES:MU21, FU21
CREATED:20241221T153844
SUMMARY:Gallus Turnier
LOCATION:Frankfurt am Main
DESCRIPTION;ENCODING=QUOTED-PRINTABLE:\n\nGallus Turnier\n
CONTACT:HJV Sportwarte
DTSTAMP:20260423T132206Z
DTSTART;TZID=Europe/Berlin;VALUE=DATE:20250426
DTEND;TZID=Europe/Berlin;VALUE=DATE:20250427
SEQUENCE:0
TRANSP:OPAQUE
END:VEVENT
END:VCALENDAR