BEGIN:VCALENDAR
VERSION:2.0
PRODID:-//jEvents 2.0 for Joomla//EN
CALSCALE:GREGORIAN
METHOD:PUBLISH
BEGIN:VTIMEZONE
TZID:Europe/Berlin
END:VTIMEZONE
BEGIN:VEVENT
UID:9c31edc50a0120333e877835cc034579
CATEGORIES:Männer
CREATED:20241221T155540
SUMMARY:Oberliga 3/4
LOCATION:Rüsselsheim / Kassel / Schwalbach
DESCRIPTION;ENCODING=QUOTED-PRINTABLE:<p>Oberliga 3/4</p>
CONTACT:Ralf Bacher
DTSTAMP:20260421T174931Z
DTSTART;TZID=Europe/Berlin;VALUE=DATE:20250607
DTEND;TZID=Europe/Berlin;VALUE=DATE:20250608
SEQUENCE:0
TRANSP:OPAQUE
END:VEVENT
END:VCALENDAR