BEGIN:VCALENDAR
VERSION:2.0
PRODID:-//jEvents 2.0 for Joomla//EN
CALSCALE:GREGORIAN
METHOD:PUBLISH
BEGIN:VTIMEZONE
TZID:Europe/Berlin
END:VTIMEZONE
BEGIN:VEVENT
UID:ae006ed0ee01124b9dba704059cdc5be
CATEGORIES:MU17, FU17
CREATED:20241221T155923
SUMMARY:Randori Lehrgang 
LOCATION:N.N.
DESCRIPTION;ENCODING=QUOTED-PRINTABLE:<p>Randori Lehrgang</p>
CONTACT:HJV Jugendleitung 
DTSTAMP:20260419T213716Z
DTSTART;TZID=Europe/Berlin;VALUE=DATE:20250906
DTEND;TZID=Europe/Berlin;VALUE=DATE:20250907
SEQUENCE:0
TRANSP:OPAQUE
END:VEVENT
END:VCALENDAR