BEGIN:VCALENDAR
VERSION:2.0
PRODID:-//jEvents 2.0 for Joomla//EN
CALSCALE:GREGORIAN
METHOD:PUBLISH
BEGIN:VTIMEZONE
TZID:Europe/Berlin
END:VTIMEZONE
BEGIN:VEVENT
UID:367fc4444f798f841b84c164591f4045
CATEGORIES:MU17, FU17
CREATED:20241221T160101
SUMMARY:Bundessichtungsturnier
LOCATION:Halle / Bamberg
DESCRIPTION;ENCODING=QUOTED-PRINTABLE:<p>Bundessichtungsturnier</p>
CONTACT:HJV Jugendleitung 
DTSTAMP:20260419T214237Z
DTSTART;TZID=Europe/Berlin;VALUE=DATE:20250912
DTEND;TZID=Europe/Berlin;VALUE=DATE:20250914
SEQUENCE:0
TRANSP:OPAQUE
END:VEVENT
END:VCALENDAR