BEGIN:VCALENDAR
VERSION:2.0
PRODID:-//jEvents 2.0 for Joomla//EN
CALSCALE:GREGORIAN
METHOD:PUBLISH
BEGIN:VTIMEZONE
TZID:Europe/Berlin
END:VTIMEZONE
BEGIN:VEVENT
UID:8a9261aacbf68ea5954b90e7b3937be9
CATEGORIES:MU21, FU21
CREATED:20241222T140842
SUMMARY:Internationales Turnier und Trainingscamp
LOCATION:Bremen / Bad Blankenburg
DESCRIPTION;ENCODING=QUOTED-PRINTABLE:<p>IT / ITC</p>
CONTACT:HJV Sportwarte 
DTSTAMP:20260421T180439Z
DTSTART;TZID=Europe/Berlin;VALUE=DATE:20250322
DTEND;TZID=Europe/Berlin;VALUE=DATE:20250327
SEQUENCE:0
TRANSP:OPAQUE
END:VEVENT
END:VCALENDAR