BEGIN:VCALENDAR
VERSION:2.0
PRODID:-//jEvents 2.0 for Joomla//EN
CALSCALE:GREGORIAN
METHOD:PUBLISH
BEGIN:VTIMEZONE
TZID:Europe/Berlin
END:VTIMEZONE
BEGIN:VEVENT
UID:c278aa0547560caf924d224e9c230671
CATEGORIES:Wettkampfsport
CREATED:20241222T160527
SUMMARY:Bundesliga 2/1
LOCATION:N. N.
DESCRIPTION;ENCODING=QUOTED-PRINTABLE:\n\nBuli 2/1\n
CONTACT:DJB
DTSTAMP:20260421T122305Z
DTSTART;TZID=Europe/Berlin;VALUE=DATE:20250302
DTEND;TZID=Europe/Berlin;VALUE=DATE:20250303
SEQUENCE:0
TRANSP:OPAQUE
END:VEVENT
END:VCALENDAR