BEGIN:VCALENDAR
VERSION:2.0
PRODID:-//jEvents 2.0 for Joomla//EN
CALSCALE:GREGORIAN
METHOD:PUBLISH
BEGIN:VTIMEZONE
TZID:Europe/Berlin
END:VTIMEZONE
BEGIN:VEVENT
UID:85898655e2961433b80da2c0d7b28a3e
CATEGORIES:Wettkampfsport
CREATED:20241222T161432
SUMMARY:Bundesliga 2/4
LOCATION:N. N.
DESCRIPTION;ENCODING=QUOTED-PRINTABLE:<p>Buli 2/4</p>
CONTACT:DJB
DTSTAMP:20260421T180429Z
DTSTART;TZID=Europe/Berlin;VALUE=DATE:20250531
DTEND;TZID=Europe/Berlin;VALUE=DATE:20250601
SEQUENCE:0
TRANSP:OPAQUE
END:VEVENT
END:VCALENDAR