BEGIN:VCALENDAR
VERSION:2.0
PRODID:-//jEvents 2.0 for Joomla//EN
CALSCALE:GREGORIAN
METHOD:PUBLISH
BEGIN:VTIMEZONE
TZID:Europe/Berlin
END:VTIMEZONE
BEGIN:VEVENT
UID:39030cf0df9cc2b586c7ff5c0e813ae2
CATEGORIES:Prüfungswesen
CREATED:20250107T144454
SUMMARY:Dan Vorbereitungslehrgang
LOCATION:BG Darmstadt 
DESCRIPTION;ENCODING=QUOTED-PRINTABLE:&nbsp;
CONTACT:Michaelo Walter
DTSTAMP:20260423T132237Z
DTSTART;TZID=Europe/Berlin;VALUE=DATE:20250223
DTEND;TZID=Europe/Berlin;VALUE=DATE:20250224
SEQUENCE:0
TRANSP:OPAQUE
END:VEVENT
END:VCALENDAR