BEGIN:VCALENDAR
VERSION:2.0
PRODID:-//jEvents 2.0 for Joomla//EN
CALSCALE:GREGORIAN
METHOD:PUBLISH
BEGIN:VTIMEZONE
TZID:Europe/Berlin
END:VTIMEZONE
BEGIN:VEVENT
UID:552553589fd3a7cd1e91f45d9fc5fac9
CATEGORIES:Prüfungswesen
CREATED:20250107T144908
SUMMARY:Kyu Prüfer Lizenz Lehrgang
LOCATION:TSV Krofdorf Gleiberg/ Wettenberg
DESCRIPTION;ENCODING=QUOTED-PRINTABLE:&nbsp;
CONTACT:Michaelo Walter
DTSTAMP:20260421T131636Z
DTSTART;TZID=Europe/Berlin;VALUE=DATE:20250405
DTEND;TZID=Europe/Berlin;VALUE=DATE:20250406
SEQUENCE:0
TRANSP:OPAQUE
END:VEVENT
END:VCALENDAR