BEGIN:VCALENDAR
VERSION:2.0
PRODID:-//jEvents 2.0 for Joomla//EN
CALSCALE:GREGORIAN
METHOD:PUBLISH
BEGIN:VTIMEZONE
TZID:Europe/Berlin
END:VTIMEZONE
BEGIN:VEVENT
UID:ad77901f5b02ec81003320488c32062a
CATEGORIES:Prüfungswesen
CREATED:20250107T145011
SUMMARY:Dan Vorbereitungslehrgang
LOCATION:TSV Krofdorf Gleiberg/ Wettenberg
DESCRIPTION;ENCODING=QUOTED-PRINTABLE:&nbsp;
CONTACT:Michaelo Walter
DTSTAMP:20260425T205440Z
DTSTART;TZID=Europe/Berlin;VALUE=DATE:20250427
DTEND;TZID=Europe/Berlin;VALUE=DATE:20250428
SEQUENCE:0
TRANSP:OPAQUE
END:VEVENT
END:VCALENDAR