BEGIN:VCALENDAR
VERSION:2.0
PRODID:-//jEvents 2.0 for Joomla//EN
CALSCALE:GREGORIAN
METHOD:PUBLISH
BEGIN:VTIMEZONE
TZID:Europe/Berlin
END:VTIMEZONE
BEGIN:VEVENT
UID:27411f726f2468333068ccd51c452ecb
CATEGORIES:Prüfungswesen
CREATED:20250107T145102
SUMMARY:Dan Vorbereitungslehrgang
LOCATION:TSV Gambach/ Münzenberg
DESCRIPTION;ENCODING=QUOTED-PRINTABLE:&nbsp;
CONTACT:Michaelo Walter
DTSTAMP:20260421T191522Z
DTSTART;TZID=Europe/Berlin;VALUE=DATE:20250517
DTEND;TZID=Europe/Berlin;VALUE=DATE:20250518
SEQUENCE:0
TRANSP:OPAQUE
END:VEVENT
END:VCALENDAR