BEGIN:VCALENDAR
VERSION:2.0
PRODID:-//jEvents 2.0 for Joomla//EN
CALSCALE:GREGORIAN
METHOD:PUBLISH
BEGIN:VTIMEZONE
TZID:Europe/Berlin
END:VTIMEZONE
BEGIN:VEVENT
UID:3d92e6eedc0aff6dbe26d05ec3a00985
CATEGORIES:Prüfungswesen
CREATED:20250107T145617
SUMMARY:Master Class Lehrgang
LOCATION:BG Darmstadt/ DA
DESCRIPTION;ENCODING=QUOTED-PRINTABLE:&nbsp;
CONTACT:Michaelo Walter
DTSTAMP:20260419T214049Z
DTSTART;TZID=Europe/Berlin;VALUE=DATE:20250927
DTEND;TZID=Europe/Berlin;VALUE=DATE:20250928
SEQUENCE:0
TRANSP:OPAQUE
END:VEVENT
END:VCALENDAR