BEGIN:VCALENDAR
VERSION:2.0
PRODID:-//jEvents 2.0 for Joomla//EN
CALSCALE:GREGORIAN
METHOD:PUBLISH
BEGIN:VTIMEZONE
TZID:Europe/Berlin
END:VTIMEZONE
BEGIN:VEVENT
UID:2eccb4220f5074afd323f8cb5660c174
CATEGORIES:MU11, MU13, MU15, FU11, FU13, FU15
CREATED:20250108T133808
SUMMARY:Rimbach Pokal U11/U13/U15
LOCATION:Odenwaldhalle in 64668 Rimbach\, Kleiststraße 11
DESCRIPTION;ENCODING=QUOTED-PRINTABLE:<p>Rimbach Pokal</p>
CONTACT:Jürgen Fuchs TG Rimbach
DTSTAMP:20260421T174932Z
DTSTART;TZID=Europe/Berlin;VALUE=DATE:20250329
DTEND;TZID=Europe/Berlin;VALUE=DATE:20250330
SEQUENCE:0
TRANSP:OPAQUE
END:VEVENT
END:VCALENDAR