BEGIN:VCALENDAR
VERSION:2.0
PRODID:-//jEvents 2.0 for Joomla//EN
CALSCALE:GREGORIAN
METHOD:PUBLISH
BEGIN:VTIMEZONE
TZID:Europe/Berlin
END:VTIMEZONE
BEGIN:VEVENT
UID:3645e26593e4c7d825f8672bda88232a
CATEGORIES:MU11, MU15, MU18, FU11, FU15, FU18
CREATED:20250111T133445
SUMMARY:Technik- und Randori Lehrgang Bezirk Ost 2025
LOCATION:Sporthalle der Friedrich-Ebert-Schule Bleichstraße\, 61137 Schöneck-Kilians
 tädten
DESCRIPTION;ENCODING=QUOTED-PRINTABLE:<p>Technik- und Randori Lehrgang des Bezirks Ost 2025</p>
CONTACT:Julian Jungermann
DTSTAMP:20260421T150302Z
DTSTART;TZID=Europe/Berlin;VALUE=DATE:20250308
DTEND;TZID=Europe/Berlin;VALUE=DATE:20250309
SEQUENCE:0
TRANSP:OPAQUE
END:VEVENT
END:VCALENDAR