BEGIN:VCALENDAR
VERSION:2.0
PRODID:-//jEvents 2.0 for Joomla//EN
CALSCALE:GREGORIAN
METHOD:PUBLISH
BEGIN:VTIMEZONE
TZID:Europe/Berlin
END:VTIMEZONE
BEGIN:VEVENT
UID:aac18fb4101dd95daee3e0647719ddf7
CATEGORIES:Breitensport, Lehrgänge
CREATED:20250112T221652
SUMMARY:Breitensport Ü50: Nami-no kata
LOCATION:35516 Münzenberg OT Gambach\, Schulstraße 11 		Sporthalle des TSV 1903 Gamb
 ach e.V.
DESCRIPTION;ENCODING=QUOTED-PRINTABLE:&nbsp;
DTSTAMP:20260423T150050Z
DTSTART;TZID=Europe/Berlin;VALUE=DATE:20250223
DTEND;TZID=Europe/Berlin;VALUE=DATE:20250224
SEQUENCE:0
TRANSP:OPAQUE
END:VEVENT
END:VCALENDAR