BEGIN:VCALENDAR
VERSION:2.0
PRODID:-//jEvents 2.0 for Joomla//EN
CALSCALE:GREGORIAN
METHOD:PUBLISH
BEGIN:VTIMEZONE
TZID:Europe/Berlin
END:VTIMEZONE
BEGIN:VEVENT
UID:ebe4947b9bf38e0368e47dea330b09ce
CATEGORIES:Versammlungen
CREATED:20250128T170949
SUMMARY:Bezirksjugendversammlung 2025 - Bezirk West -
LOCATION:Dojo des Judo Club Elz (Eingang über die Tiefgarage der Turnhalle der Erlen
 bachschule) Hadamarer Straße 13 65604 Elz
DESCRIPTION;ENCODING=QUOTED-PRINTABLE:\n\n18.00 Uhr\n
CONTACT:Simon Elhadj
DTSTAMP:20260421T131631Z
DTSTART;TZID=Europe/Berlin;VALUE=DATE:20250227
DTEND;TZID=Europe/Berlin;VALUE=DATE:20250228
SEQUENCE:0
TRANSP:OPAQUE
END:VEVENT
END:VCALENDAR