BEGIN:VCALENDAR
VERSION:2.0
PRODID:-//jEvents 2.0 for Joomla//EN
CALSCALE:GREGORIAN
METHOD:PUBLISH
BEGIN:VTIMEZONE
TZID:Europe/Berlin
END:VTIMEZONE
BEGIN:VEVENT
UID:20ef204623c142125b72405de12ecadd
CATEGORIES:Lehrgänge, Ausbildungswesen
CREATED:20250216T163630
SUMMARY:A-Level Fortbildung LA3-25: Grundkampfkonzeption
LOCATION:Kirschberg 27\, 64347 Griesheim
DESCRIPTION;ENCODING=QUOTED-PRINTABLE:<div class="viovendi-widget viovendi-booking-widget" data-viovendi-locale="
 de-de" data-viovendi-organizer="5182" data-viovendi-widget-config-name="boo
 king-5182-79526" data-viovendi-event="182839">&nbsp;</div><script src="http
 s://doo.net/viovendi-embed.js" type="text/javascript" data-viovendi-version
 ="1"></script>
CONTACT:Ervin Susnik
DTSTAMP:20260419T152600Z
DTSTART;TZID=Europe/Berlin;VALUE=DATE:20250309
DTEND;TZID=Europe/Berlin;VALUE=DATE:20250310
SEQUENCE:0
TRANSP:OPAQUE
END:VEVENT
END:VCALENDAR