BEGIN:VCALENDAR
VERSION:2.0
PRODID:-//jEvents 2.0 for Joomla//EN
CALSCALE:GREGORIAN
METHOD:PUBLISH
BEGIN:VTIMEZONE
TZID:Europe/Berlin
END:VTIMEZONE
BEGIN:VEVENT
UID:c778fd09433d2c973a5256670e1c0378
CATEGORIES:Lehrgänge, Ausbildungswesen
CREATED:20250216T164140
SUMMARY:DOSB Ausbildung Trainer C Judo des hessischen Judoverbandes e.V.
LOCATION:BudoArena Maintal\, Ascher Straße 62\, 63477 Maintal
DESCRIPTION;ENCODING=QUOTED-PRINTABLE:<div class="viovendi-widget viovendi-booking-widget" data-viovendi-locale="
 de-de" data-viovendi-organizer="5182" data-viovendi-widget-config-name="boo
 king-5182-79135" data-viovendi-event="182264">&nbsp;</div><script src="http
 s://doo.net/viovendi-embed.js" type="text/javascript" data-viovendi-version
 ="1"></script>
CONTACT:Ervin Susnik
DTSTAMP:20260419T152610Z
DTSTART;TZID=Europe/Berlin;VALUE=DATE:20250228
DTEND;TZID=Europe/Berlin;VALUE=DATE:20250301
SEQUENCE:0
TRANSP:OPAQUE
END:VEVENT
END:VCALENDAR