BEGIN:VCALENDAR
VERSION:2.0
PRODID:-//jEvents 2.0 for Joomla//EN
CALSCALE:GREGORIAN
METHOD:PUBLISH
BEGIN:VTIMEZONE
TZID:Europe/Berlin
END:VTIMEZONE
BEGIN:VEVENT
UID:830bf5d6ae70cac127ecc1266aba26e9
CATEGORIES:Breitensport
CREATED:20250218T110217
SUMMARY:Breitensport: Judo Selbstverteidigung (Modul 2)
LOCATION:Bad Vilbel Dortelweil
DESCRIPTION;ENCODING=QUOTED-PRINTABLE:&nbsp;
CONTACT:Eduard Van Thurenhout
DTSTAMP:20260425T193108Z
DTSTART;TZID=Europe/Berlin;VALUE=DATE:20250628
DTEND;TZID=Europe/Berlin;VALUE=DATE:20250629
SEQUENCE:0
TRANSP:OPAQUE
END:VEVENT
END:VCALENDAR