BEGIN:VCALENDAR
VERSION:2.0
PRODID:-//jEvents 2.0 for Joomla//EN
CALSCALE:GREGORIAN
METHOD:PUBLISH
BEGIN:VTIMEZONE
TZID:Europe/Berlin
END:VTIMEZONE
BEGIN:VEVENT
UID:39d80f4aa7bb52094b6bce6a0296b32a
CATEGORIES:Breitensport
CREATED:20250218T110414
SUMMARY:Breitensport: Judo-Selbstverteidigung (Modul 3)
LOCATION:Lorsch
DESCRIPTION;ENCODING=QUOTED-PRINTABLE:&nbsp;
CONTACT:Eduard Van Thurenhout
DTSTAMP:20260423T132242Z
DTSTART;TZID=Europe/Berlin;VALUE=DATE:20250823
DTEND;TZID=Europe/Berlin;VALUE=DATE:20250824
SEQUENCE:0
TRANSP:OPAQUE
END:VEVENT
END:VCALENDAR