BEGIN:VCALENDAR
VERSION:2.0
PRODID:-//jEvents 2.0 for Joomla//EN
CALSCALE:GREGORIAN
METHOD:PUBLISH
BEGIN:VTIMEZONE
TZID:Europe/Berlin
END:VTIMEZONE
BEGIN:VEVENT
UID:123a1a41733b75441b610b831764168c
CATEGORIES:FU15
CREATED:20250226T165240
SUMMARY:22. Bundesoffenes Pokalsichtungsturnier u15w
LOCATION:71522 Backnang\, Mörike-Sporthalle\, Rötlensweg 8/1
DESCRIPTION;ENCODING=QUOTED-PRINTABLE:<p>22. Bundesoffenes Pokalsichtungsturnier u15w</p>
DTSTAMP:20260423T103023Z
DTSTART;TZID=Europe/Berlin;VALUE=DATE:20250316
DTEND;TZID=Europe/Berlin;VALUE=DATE:20250317
SEQUENCE:0
TRANSP:OPAQUE
END:VEVENT
END:VCALENDAR