BEGIN:VCALENDAR
VERSION:2.0
PRODID:-//jEvents 2.0 for Joomla//EN
CALSCALE:GREGORIAN
METHOD:PUBLISH
BEGIN:VTIMEZONE
TZID:Europe/Berlin
END:VTIMEZONE
BEGIN:VEVENT
UID:a16fd0fe15641658c34046fd317fe842
CATEGORIES:MU13, FU13
CREATED:20250226T165749
SUMMARY:31. Internationaler ega-Pokal 2025 U13
LOCATION:Hartwig-Gauder-Halle Erfurt (Steigerwaldstadion) Johann-Sebastian-Bach-Str.
  2\, 99096 Erfurt
DESCRIPTION;ENCODING=QUOTED-PRINTABLE:<p>Internationaler ega Pokal</p>
DTSTAMP:20260423T134342Z
DTSTART;TZID=Europe/Berlin;VALUE=DATE:20250511
DTEND;TZID=Europe/Berlin;VALUE=DATE:20250512
SEQUENCE:0
TRANSP:OPAQUE
END:VEVENT
END:VCALENDAR