BEGIN:VCALENDAR
VERSION:2.0
PRODID:-//jEvents 2.0 for Joomla//EN
CALSCALE:GREGORIAN
METHOD:PUBLISH
BEGIN:VTIMEZONE
TZID:Europe/Berlin
END:VTIMEZONE
BEGIN:VEVENT
UID:469f99c60741265065834be412322c06
CATEGORIES:Breitensport, Kata
CREATED:20250319T110920
SUMMARY:Katame-no-kata Lehrgang
LOCATION:Sporthalle Am Siegesbaum\, 61118 Bad Vilbel
DESCRIPTION;ENCODING=QUOTED-PRINTABLE:<div class="viovendi-widget viovendi-booking-widget" data-viovendi-locale="
 de-de" data-viovendi-organizer="5182" data-viovendi-widget-config-name="boo
 king-5182-81703" data-viovendi-event="185642">&nbsp;</div><script src="http
 s://doo.net/viovendi-embed.js" type="text/javascript" data-viovendi-version
 ="1"></script>
CONTACT:Hubertus Orth
DTSTAMP:20260419T152556Z
DTSTART;TZID=Europe/Berlin;VALUE=DATE:20250412
DTEND;TZID=Europe/Berlin;VALUE=DATE:20250413
SEQUENCE:0
TRANSP:OPAQUE
END:VEVENT
END:VCALENDAR