BEGIN:VCALENDAR
VERSION:2.0
PRODID:-//jEvents 2.0 for Joomla//EN
CALSCALE:GREGORIAN
METHOD:PUBLISH
BEGIN:VTIMEZONE
TZID:Europe/Berlin
END:VTIMEZONE
BEGIN:VEVENT
UID:e185751f2d73d79c0f85bb3f35b85377
CATEGORIES:Kata
CREATED:20250423T145711
SUMMARY:Kata Kader Training
LOCATION:Dojo der TSG Nord West Frankfurt\, Weißkirchener Weg 12\, 60439 Frankfurt a
 m Main
DESCRIPTION;ENCODING=QUOTED-PRINTABLE:&nbsp;
CONTACT:Eduard van Thurenhout
DTSTAMP:20260425T205654Z
DTSTART;TZID=Europe/Berlin;VALUE=DATE:20250601
DTEND;TZID=Europe/Berlin;VALUE=DATE:20250602
SEQUENCE:0
TRANSP:OPAQUE
END:VEVENT
END:VCALENDAR