BEGIN:VCALENDAR
VERSION:2.0
PRODID:-//jEvents 2.0 for Joomla//EN
CALSCALE:GREGORIAN
METHOD:PUBLISH
BEGIN:VTIMEZONE
TZID:Europe/Berlin
END:VTIMEZONE
BEGIN:VEVENT
UID:e9b1bc430969af7c69f0ef76b4ad25a0
CATEGORIES:Kata
CREATED:20250517T142829
SUMMARY:Deutsche Kata-Meisterschaften & Inklusive Deutsche Kata-Meisterschaft ID-Judo
LOCATION:Richard-Wolf-Str. 1\, 01705 Freital 
DESCRIPTION;ENCODING=QUOTED-PRINTABLE:<p><a href="https://api.dokume.net/functions.php/storage/publiclink/cmRFRW5
 veXhtY1N3bldwRndpSFRSVTZscG0ybnNEandDYm89/inline" target="_blank" rel="noop
 ener">Deutsche Kata-Meisterschaften &amp; Inklusive Deutsche Kata-Meistersc
 haft ID-Judo</a></p>
CONTACT: Sebastian Frey – DJB Kata-Referent
DTSTAMP:20260421T180424Z
DTSTART;TZID=Europe/Berlin;VALUE=DATE:20250620
DTEND;TZID=Europe/Berlin;VALUE=DATE:20250623
SEQUENCE:0
TRANSP:OPAQUE
END:VEVENT
END:VCALENDAR