BEGIN:VCALENDAR
VERSION:2.0
PRODID:-//jEvents 2.0 for Joomla//EN
CALSCALE:GREGORIAN
METHOD:PUBLISH
BEGIN:VTIMEZONE
TZID:Europe/Berlin
END:VTIMEZONE
BEGIN:VEVENT
UID:f48bdb6739cef9d1c6b189d23afb927a
CATEGORIES:Versammlungen
CREATED:20250603T192837
SUMMARY:Bezirksjugendversammlung 2025 - Bezirk Süd -
LOCATION:Vereinsgaststätte des DJK Sportclub Concoridia Pfungstadt e.V. Dr.-Horst-Sc
 hmidt-Straße 20 64319 Pfungstadt
DESCRIPTION;ENCODING=QUOTED-PRINTABLE:<p>Zeit: 19.00 Uhr</p>
CONTACT:Benjamin Rottmann
DTSTAMP:20260419T152605Z
DTSTART;TZID=Europe/Berlin;VALUE=DATE:20250626
DTEND;TZID=Europe/Berlin;VALUE=DATE:20250627
SEQUENCE:0
TRANSP:OPAQUE
END:VEVENT
END:VCALENDAR