BEGIN:VCALENDAR
VERSION:2.0
PRODID:-//jEvents 2.0 for Joomla//EN
CALSCALE:GREGORIAN
METHOD:PUBLISH
BEGIN:VTIMEZONE
TZID:Europe/Berlin
END:VTIMEZONE
BEGIN:VEVENT
UID:e3a85523bc96e04c392b5c29d1ae5845
CATEGORIES:Breitensport
CREATED:20250608T194641
SUMMARY:Bodentechniken alte und neue Prüfungsordnung (Nomenklatur)
LOCATION: Silberbachhalle\, Am Marktplatz\, 65232 Taunusstein
DESCRIPTION;ENCODING=QUOTED-PRINTABLE:&nbsp;
CONTACT:Helmut Eckardt
DTSTAMP:20260423T230502Z
DTSTART;TZID=Europe/Berlin;VALUE=DATE:20250920
DTEND;TZID=Europe/Berlin;VALUE=DATE:20250921
SEQUENCE:0
TRANSP:OPAQUE
END:VEVENT
END:VCALENDAR