BEGIN:VCALENDAR
VERSION:2.0
PRODID:-//jEvents 2.0 for Joomla//EN
CALSCALE:GREGORIAN
METHOD:PUBLISH
BEGIN:VTIMEZONE
TZID:Europe/Berlin
END:VTIMEZONE
BEGIN:VEVENT
UID:ebd60d1555523bcccf11d70f3de9ad14
CATEGORIES:Ausbildungswesen
CREATED:20250711T150726
SUMMARY:Trainer C-Ausbildung 2025-2:  Präsenzphase I 
LOCATION:Kirschberg 27\, 64347 Griesheim
DESCRIPTION;ENCODING=QUOTED-PRINTABLE:<div class="viovendi-widget viovendi-booking-widget" data-viovendi-locale="
 de-de" data-viovendi-widget-config-name="booking-5182-88127" data-viovendi-
 event="193670" data-viovendi-organizer="5182">&nbsp;</div><script src="http
 s://doo.net/viovendi-embed.js" type="text/javascript" data-viovendi-version
 ="1"></script>
CONTACT:Ervin Susnik
DTSTAMP:20260419T214305Z
DTSTART;TZID=Europe/Berlin;VALUE=DATE:20250913
DTEND;TZID=Europe/Berlin;VALUE=DATE:20250915
SEQUENCE:0
TRANSP:OPAQUE
END:VEVENT
END:VCALENDAR