BEGIN:VCALENDAR
VERSION:2.0
PRODID:-//jEvents 2.0 for Joomla//EN
CALSCALE:GREGORIAN
METHOD:PUBLISH
BEGIN:VTIMEZONE
TZID:Europe/Berlin
END:VTIMEZONE
BEGIN:VEVENT
UID:8164282d666d2bf13cf9276aec222105
CATEGORIES:MU11, MU13, MU15, FU11, FU13, FU15
CREATED:20250722T112445
SUMMARY:Offene Unterbezirksbestenkämpfe West/Gießen
LOCATION:Kreissporthalle LimburgZeppelinstraße 39 65549 Limburg
DESCRIPTION;ENCODING=QUOTED-PRINTABLE:<p>Waage:</p><p>Samstag 6.9.2025: <br />- weiblich U11 und U13: 8:30-9:00 U
 hr&nbsp;<br />- männlich U11 und U13: 10:00-10:30 Uhr<br />- U15 (weiblich 
 und männlich): 11:00-11:30</p>
CONTACT:Simon Elhadj
DTSTAMP:20260419T214244Z
DTSTART;TZID=Europe/Berlin;VALUE=DATE:20250906
DTEND;TZID=Europe/Berlin;VALUE=DATE:20250907
SEQUENCE:0
TRANSP:OPAQUE
END:VEVENT
END:VCALENDAR