BEGIN:VCALENDAR
VERSION:2.0
PRODID:-//jEvents 2.0 for Joomla//EN
CALSCALE:GREGORIAN
METHOD:PUBLISH
BEGIN:VTIMEZONE
TZID:Europe/Berlin
END:VTIMEZONE
BEGIN:VEVENT
UID:cea865d7746cb9d7559d38036e40d2e3
CATEGORIES:MU11, MU13, MU15, MU18, MU21, FU11, FU13, FU15, FU18, FU21
CREATED:20250805T163656
SUMMARY:2. Offener Technik- und Randori- Lehrgang des Bezirks Ost 2025
LOCATION:Pfingstweidstraße 7\, 60316 Frankfurt am Main
DESCRIPTION;ENCODING=QUOTED-PRINTABLE:\n\nMeldung:\nMit Namen, Altersklasse und Verein bis spätestens 31.08.2025\
 n
CONTACT:Julian Jungermann
DTSTAMP:20260423T110438Z
DTSTART;TZID=Europe/Berlin;VALUE=DATE:20250906
DTEND;TZID=Europe/Berlin;VALUE=DATE:20250907
SEQUENCE:0
TRANSP:OPAQUE
END:VEVENT
END:VCALENDAR