BEGIN:VCALENDAR
VERSION:2.0
PRODID:-//jEvents 2.0 for Joomla//EN
CALSCALE:GREGORIAN
METHOD:PUBLISH
BEGIN:VTIMEZONE
TZID:Europe/Berlin
END:VTIMEZONE
BEGIN:VEVENT
UID:1317ee4756646c264c1df355f8e69dc9
CATEGORIES:Männer, Frauen
CREATED:20250812T101332
SUMMARY:HEM 2025 Frauen / Männer
LOCATION:Großsporthalle der Wilhelm-Leuschner-Schule Mühlstr 51 64319 Pfungstadt
DESCRIPTION;ENCODING=QUOTED-PRINTABLE:<p>Wiegen:<br />10:00 – 10:30 Uhr Frauen / 11:00 – 11:30 Uhr Männer</p><p>M
 eldung:<br />Meldungen erfolgen ausschließlich über DokuMe.</p>
CONTACT:HJV Sportwarte Frauen / Männer
DTSTAMP:20260421T150312Z
DTSTART;TZID=Europe/Berlin;VALUE=DATE:20250907
DTEND;TZID=Europe/Berlin;VALUE=DATE:20250908
SEQUENCE:0
TRANSP:OPAQUE
END:VEVENT
END:VCALENDAR