BEGIN:VCALENDAR
VERSION:2.0
PRODID:-//jEvents 2.0 for Joomla//EN
CALSCALE:GREGORIAN
METHOD:PUBLISH
BEGIN:VTIMEZONE
TZID:Europe/Berlin
END:VTIMEZONE
BEGIN:VEVENT
UID:141dd3ec870f3339303da76220a607ad
CATEGORIES:MU10, MU12, MU15, FU10, FU12, FU15
CREATED:20250821T123131
SUMMARY:Bezirkskämpfe Nord
LOCATION: Kreissporthalle Petersberg\, Gordeler Str. 64 in 36100 Petersberg
DESCRIPTION;ENCODING=QUOTED-PRINTABLE:\n\nKreissporthalle Petersberg\n
CONTACT:Bezirksleitung Nord
DTSTAMP:20260419T214043Z
DTSTART;TZID=Europe/Berlin;VALUE=DATE:20250920
DTEND;TZID=Europe/Berlin;VALUE=DATE:20250921
SEQUENCE:0
TRANSP:OPAQUE
END:VEVENT
END:VCALENDAR