BEGIN:VCALENDAR
VERSION:2.0
PRODID:-//jEvents 2.0 for Joomla//EN
CALSCALE:GREGORIAN
METHOD:PUBLISH
BEGIN:VTIMEZONE
TZID:Europe/Berlin
END:VTIMEZONE
BEGIN:VEVENT
UID:35b900c198388d0d61174f4a12641527
CATEGORIES:Breitensport
CREATED:20250821T130722
SUMMARY:zusätzliches Veteranen Randori 
LOCATION:BudoArena\, Ascher Str. 62\, 63477 Maintal 
DESCRIPTION;ENCODING=QUOTED-PRINTABLE:&nbsp;
CONTACT:Theodor Keppel
DTSTAMP:20260419T214043Z
DTSTART;TZID=Europe/Berlin;VALUE=DATE:20250928
DTEND;TZID=Europe/Berlin;VALUE=DATE:20250929
SEQUENCE:0
TRANSP:OPAQUE
END:VEVENT
END:VCALENDAR