BEGIN:VCALENDAR
VERSION:2.0
PRODID:-//jEvents 2.0 for Joomla//EN
CALSCALE:GREGORIAN
METHOD:PUBLISH
BEGIN:VTIMEZONE
TZID:Europe/Berlin
END:VTIMEZONE
BEGIN:VEVENT
UID:dc9dd675b1a31858591a7f5f13fd2d81
CATEGORIES:Prüfungswesen
CREATED:20251121T130601
SUMMARY:Prüfungswesen: Dan-Vorbereitung Lehrgang
LOCATION:Vellmar
DESCRIPTION;ENCODING=QUOTED-PRINTABLE:\n\nWeitere Informationen und Anmeldung\nDafür halte bitte bereit: Das pers
 önliche DokuMe-Passwort\n
DTSTAMP:20260421T131641Z
DTSTART;TZID=Europe/Berlin;VALUE=DATE:20260426
DTEND;TZID=Europe/Berlin;VALUE=DATE:20260427
SEQUENCE:0
TRANSP:OPAQUE
END:VEVENT
END:VCALENDAR