BEGIN:VCALENDAR
VERSION:2.0
PRODID:-//jEvents 2.0 for Joomla//EN
CALSCALE:GREGORIAN
METHOD:PUBLISH
BEGIN:VTIMEZONE
TZID:Europe/Berlin
END:VTIMEZONE
BEGIN:VEVENT
UID:43b750728b45be3bda7d5a9e0c617df1
CATEGORIES:Männer
CREATED:20241221T155413
SUMMARY:Oberliga 2/4
LOCATION:Wiesbaden / Frankfurt / Petersberg
DESCRIPTION;ENCODING=QUOTED-PRINTABLE:\n\nOberliga 2/4\n
CONTACT:Ralf Bacher
DTSTAMP:20260420T133311Z
DTSTART;TZID=Europe/Berlin;VALUE=DATE:20250517
DTEND;TZID=Europe/Berlin;VALUE=DATE:20250518
SEQUENCE:0
TRANSP:OPAQUE
END:VEVENT
END:VCALENDAR