BEGIN:VCALENDAR
VERSION:2.0
PRODID:-//jEvents 2.0 for Joomla//EN
CALSCALE:GREGORIAN
METHOD:PUBLISH
BEGIN:VTIMEZONE
TZID:Europe/Berlin
END:VTIMEZONE
BEGIN:VEVENT
UID:19cba6f08ff23da84f419982813e847c
CATEGORIES:Breitensport
CREATED:20250218T110056
SUMMARY:Breitensport: SV Kids (Judo-Selbstverteidigung für Kinder & Jugendliche)
LOCATION:Lorsch
DESCRIPTION;ENCODING=QUOTED-PRINTABLE:&nbsp;
CONTACT:Eduard Van Thurenhout
DTSTAMP:20260420T134317Z
DTSTART;TZID=Europe/Berlin;VALUE=DATE:20250518
DTEND;TZID=Europe/Berlin;VALUE=DATE:20250519
SEQUENCE:0
TRANSP:OPAQUE
END:VEVENT
END:VCALENDAR