BEGIN:VCALENDAR
VERSION:2.0
PRODID:-//jEvents 2.0 for Joomla//EN
CALSCALE:GREGORIAN
METHOD:PUBLISH
BEGIN:VTIMEZONE
TZID:Europe/Berlin
END:VTIMEZONE
BEGIN:VEVENT
UID:760645c50cb9f38ffabf48593eea5a3a
CATEGORIES:Kata
CREATED:20250423T145338
SUMMARY:Kata Kader Training
LOCATION:Dojo der TSG Nord West Frankfurt\, Weißkirchener Weg 12\, 60439 Frankfurt a
 m Main
DESCRIPTION;ENCODING=QUOTED-PRINTABLE:&nbsp;
CONTACT:Eduard van Thurenhout
DTSTAMP:20260422T122259Z
DTSTART;TZID=Europe/Berlin;VALUE=DATE:20250511
DTEND;TZID=Europe/Berlin;VALUE=DATE:20250512
SEQUENCE:0
TRANSP:OPAQUE
END:VEVENT
END:VCALENDAR